BEGIN:VCALENDAR
VERSION:2.0
PRODID:-//Manoli - ECPv5.3.2.1//NONSGML v1.0//EN
CALSCALE:GREGORIAN
METHOD:PUBLISH
X-WR-CALNAME:Manoli
X-ORIGINAL-URL:https://www.total-manoli.de
X-WR-CALDESC:Veranstaltungen für Manoli
BEGIN:VTIMEZONE
TZID:Europe/Berlin
BEGIN:DAYLIGHT
TZOFFSETFROM:+0100
TZOFFSETTO:+0200
TZNAME:CEST
DTSTART:20230326T010000
END:DAYLIGHT
BEGIN:STANDARD
TZOFFSETFROM:+0200
TZOFFSETTO:+0100
TZNAME:CET
DTSTART:20231029T010000
END:STANDARD
END:VTIMEZONE
BEGIN:VEVENT
DTSTART;TZID=Europe/Berlin:20230630T190000
DTEND;TZID=Europe/Berlin:20230630T200000
DTSTAMP:20260421T110410
CREATED:20240228T190156Z
LAST-MODIFIED:20240228T190156Z
UID:240-1688151600-1688155200@www.total-manoli.de
SUMMARY:Salon Dufte - Ein Hauch der Goldenen Zwanziger
DESCRIPTION:Salon Dufte – Ein Hauch der „Goldenen Zwanziger“ mit Sigrid Güssefeld\, Andreas Kling & Alexander Klein (Freitag\, 30.Juni 2023 um 19.00 Uhr\, Cafe Fechner\, Berlin)
URL:https://www.total-manoli.de/konzerte/salon-dufte-ein-hauch-der-goldenen-zwanziger/
ATTACH;FMTTYPE=image/jpeg:https://www.total-manoli.de/wp-content/uploads/2024/02/2657709a-ceb8-4a7d-a3be-b969b3bb2ddd.jpeg
END:VEVENT
END:VCALENDAR