BEGIN:VCALENDAR
VERSION:2.0
PRODID:-//Manoli - ECPv5.3.2.1//NONSGML v1.0//EN
CALSCALE:GREGORIAN
METHOD:PUBLISH
X-WR-CALNAME:Manoli
X-ORIGINAL-URL:https://www.total-manoli.de
X-WR-CALDESC:Veranstaltungen für Manoli
BEGIN:VTIMEZONE
TZID:Europe/Berlin
BEGIN:DAYLIGHT
TZOFFSETFROM:+0100
TZOFFSETTO:+0200
TZNAME:CEST
DTSTART:20220327T010000
END:DAYLIGHT
BEGIN:STANDARD
TZOFFSETFROM:+0200
TZOFFSETTO:+0100
TZNAME:CET
DTSTART:20221030T010000
END:STANDARD
END:VTIMEZONE
BEGIN:VEVENT
DTSTART;TZID=Europe/Berlin:20220702T200000
DTEND;TZID=Europe/Berlin:20220702T220000
DTSTAMP:20260421T105607
CREATED:20240228T181714Z
LAST-MODIFIED:20240228T193149Z
UID:233-1656792000-1656799200@www.total-manoli.de
SUMMARY:Tanz auf dem Vulkan
DESCRIPTION:„Tanz auf dem Vulkan“ – Damals wie heute\, mit Sigrid Güssefeld & Harald Krösser  (Samstag\, 02.Juli 2022\, Bräustübl Berlin) \n 
URL:https://www.total-manoli.de/konzerte/tanz-auf-dem-vulkan/
ATTACH;FMTTYPE=image/jpeg:https://www.total-manoli.de/wp-content/uploads/2024/02/Harald-Siggi-scaled.jpg
END:VEVENT
END:VCALENDAR